BEGIN:VCALENDAR
VERSION:2.0
PRODID:-//Europäische Heilerschule - ECPv4.6.22//NONSGML v1.0//EN
CALSCALE:GREGORIAN
METHOD:PUBLISH
X-WR-CALNAME:Europäische Heilerschule
X-ORIGINAL-URL:https://europaeische-heilerschule.eu
X-WR-CALDESC:Veranstaltungen für Europäische Heilerschule
BEGIN:VEVENT
DTSTART;TZID=Europe/Berlin:20210809T190000
DTEND;TZID=Europe/Berlin:20210809T210000
DTSTAMP:20260420T214024
CREATED:20210521T101945Z
LAST-MODIFIED:20210521T101945Z
UID:4577-1628535600-1628542800@europaeische-heilerschule.eu
SUMMARY:Erkenne und aktiviere den Heiler in Dir - Infoabend zur Heilerausbildung 2021/2022
DESCRIPTION:1Erkenne und aktiviere den Heiler in Dir\nInfoabend zur Heilerausbildung 2021/2022\nLernen Sie Susanne Mary Wagner und unser Haus kennen und lassen Sie sich anhand eines kurzweiligen Info-Vortrags über den Unterrichtsinhalt und die Unterrichtsmethoden informieren. Der Informationsabend ist selbstverständlich kostenfrei. \nIm Anschluss sind Fragen herzlich willkommen. \nDer Ausbildungs-Zyklus 2021/2022 beginnt am 16. September 2021. Er umfasst gesamt sieben Blöcke zu jeweils vier Tagen (jeweils Donnerstag bis Sonntag) und schliesst mit dem Diplom Human EnergetikerIn nach EHN-Norm ab. Es können auch Einzelseminare gebucht werden. \nBlock I – 16. – 19. September 2021 – Chakren\, Meridiane\, Allergien\nBlock II – 4. – 7. November 2021 – Rückführung\nBlock III – 13. – 16. Januar 2022 – SUWA Healing Teil 1\nBlock IV – 3. – 6. März 2022 – SUWA Healing Teil 2\nBlock V – 21. – 24. April 2022 – Medialität\nBlock VI – 26. – 29. Mai 2022 – SUWA Wachtrance\nBlock VII – 7. – 10. Juli 2022 – SUWA Matrixhealing \n  \n
URL:https://europaeische-heilerschule.eu/event/infoabend-zur-heilerausbildung-2018-7-2-2-2-2-2-2-2-2-2-2-2-2-3-2-2-4-2-2-3-2-3-2/
LOCATION:Europäische Heilerschule\, Schäflistrasse 1\, St. Margrethen\, SG\, 9430\, Schweiz
GEO:47.445799;9.6495368
X-APPLE-STRUCTURED-LOCATION;VALUE=URI;X-ADDRESS=Europäische Heilerschule Schäflistrasse 1 St. Margrethen SG 9430 Schweiz;X-APPLE-RADIUS=500;X-TITLE=Schäflistrasse 1:geo:9.6495368,47.445799
ATTACH;FMTTYPE=image/png:https://europaeische-heilerschule.eu/wp-content/uploads/2017/06/Banner-S-M.png
END:VEVENT
END:VCALENDAR