BEGIN:VCALENDAR
VERSION:2.0
PRODID:-//Europäische Heilerschule - ECPv4.6.22//NONSGML v1.0//EN
CALSCALE:GREGORIAN
METHOD:PUBLISH
X-WR-CALNAME:Europäische Heilerschule
X-ORIGINAL-URL:https://europaeische-heilerschule.eu
X-WR-CALDESC:Veranstaltungen für Europäische Heilerschule
BEGIN:VEVENT
DTSTART;TZID=Europe/Berlin:20190515T190000
DTEND;TZID=Europe/Berlin:20190515T210000
DTSTAMP:20260421T081549
CREATED:20190426T142909Z
LAST-MODIFIED:20190501T091403Z
UID:3292-1557946800-1557954000@europaeische-heilerschule.eu
SUMMARY:Erkenne und aktiviere den Heiler in Dir - Infoabend zur Heilerausbildung 2019/2020
DESCRIPTION:Erkenne und aktiviere den Heiler in Dir\nInfoabend zur Heilerausbildung 2019/2010\nLernen Sie Susanne Mary Wagner und unser Haus kennen und lassen Sie sich anhand eines kurzweiligen Info-Vortrags über den Unterrichtsinhalt und die Unterrichtsmethoden informieren. Der Informationsabend ist selbstverständlich kostenfrei. \nIm Anschluss sind Fragen herzlich willkommen. \nDer Ausbildungs-Zyklus 2019 beginnt am 19. September 2019. Er umfasst gesamt sieben Blöcke zu jeweils vier Tagen (jeweils Donnerstag bis Sonntag) und schliesst mit dem Diplom Human EnergetikerIn nach EHN-Norm ab. Es können auch Einzelseminare gebucht werden. \nBlock I – 19. – 22. September 2019 – Chakren\, Meridiane\, Allergien\nBlock II – 7. – 10. November 2019 – Rückführung\nBlock III – 16. – 19. Januar 2020 – SUWA Healing Teil 1\nBlock IV – 5. – 8. März 2020 – SUWA Healing Teil 2\nBlock V – 23. – 26. April 2020 – Medialität\nBlock VI – 28. – 31. Mai 2020 – SUWA Wachtrance\nBlock VII – 2. – 5. Juli 2020 – SUWA Matrixhealing\nKosten pro Block: CHF 600\,- inkl. MwSt. \n  \n
URL:https://europaeische-heilerschule.eu/event/infoabend-zur-heilerausbildung-2018-7-2-2-2-2-2-2-2-2-2-2-2-2-3-2/
LOCATION:Europäische Heilerschule\, Schäflistrasse 1\, St. Margrethen\, SG\, 9430\, Schweiz
GEO:47.445799;9.6495368
X-APPLE-STRUCTURED-LOCATION;VALUE=URI;X-ADDRESS=Europäische Heilerschule Schäflistrasse 1 St. Margrethen SG 9430 Schweiz;X-APPLE-RADIUS=500;X-TITLE=Schäflistrasse 1:geo:9.6495368,47.445799
ATTACH;FMTTYPE=image/png:https://europaeische-heilerschule.eu/wp-content/uploads/2017/06/Banner-S-M.png
END:VEVENT
END:VCALENDAR