BEGIN:VCALENDAR
VERSION:2.0
PRODID:-//Europäische Heilerschule - ECPv4.6.22//NONSGML v1.0//EN
CALSCALE:GREGORIAN
METHOD:PUBLISH
X-WR-CALNAME:Europäische Heilerschule
X-ORIGINAL-URL:https://europaeische-heilerschule.eu
X-WR-CALDESC:Veranstaltungen für Europäische Heilerschule
BEGIN:VEVENT
DTSTART;TZID=Europe/Berlin:20201202T190000
DTEND;TZID=Europe/Berlin:20201202T210000
DTSTAMP:20260421T095236
CREATED:20200812T102357Z
LAST-MODIFIED:20200812T102357Z
UID:4236-1606935600-1606942800@europaeische-heilerschule.eu
SUMMARY:Erkenne und aktiviere den Heiler in Dir - Infoabend zur Heilerausbildung 2021
DESCRIPTION:Erkenne und aktiviere den Heiler in Dir\nInfoabend zur Heilerausbildung 2021\nLernen Sie Susanne Mary Wagner und unser Semianrhaus kennen und lassen Sie sich anhand eines kurzweiligen Info-Vortrags über den Unterrichtsinhalt und die Unterrichtsmethoden informieren. Der Informationsabend ist selbstverständlich kostenfrei. \nIm Anschluss sind Fragen herzlich willkommen. \nDer Ausbildungs-Zyklus 2021 beginnt am 18. Februar 2021. Er umfasst gesamt sieben Blöcke zu jeweils vier Tagen (jeweils Donnerstag bis Sonntag) und schliesst mit dem Diplom Human EnergetikerIn nach EHN-Norm ab. Es können auch Einzelseminare gebucht werden. \nBlock I – 18. – 21. Februar 2021 – Chakren\, Meridiane\, Allergien\nBlock II – 25. – 28. März 2021 – Rückführung\nBlock III – 13. – 16. Mai 2021 – SUWA Healing Teil 1\nBlock IV – 17. – 20. Juni 2021 – SUWA Healing Teil 2\nBlock V – 2. – 5. September 2021 – Medialität\nBlock VI – 7. – 10. Oktober 2021 – SUWA Wachtrance\nBlock VII – 11. – 14. November 2021 – SUWA Matrixhealing \n  \n
URL:https://europaeische-heilerschule.eu/event/infoabend-zur-heilerausbildung-2018-7-2-2-2-2-2-2-2-2-2-2-2-2-3-2-2-4-2-2-3-2-2-3-2-2/
LOCATION:Europäische Heilerschule\, Schäflistrasse 1\, St. Margrethen\, SG\, 9430\, Schweiz
GEO:47.445799;9.6495368
X-APPLE-STRUCTURED-LOCATION;VALUE=URI;X-ADDRESS=Europäische Heilerschule Schäflistrasse 1 St. Margrethen SG 9430 Schweiz;X-APPLE-RADIUS=500;X-TITLE=Schäflistrasse 1:geo:9.6495368,47.445799
ATTACH;FMTTYPE=image/png:https://europaeische-heilerschule.eu/wp-content/uploads/2017/06/Banner-S-M.png
END:VEVENT
END:VCALENDAR